BEGIN:VCALENDAR
VERSION:2.0
PRODID:-//Friends of Franklin Park Arts Center - ECPv6.15.14//NONSGML v1.0//EN
CALSCALE:GREGORIAN
METHOD:PUBLISH
X-WR-CALNAME:Friends of Franklin Park Arts Center
X-ORIGINAL-URL:https://www.franklinparkartscenter.org
X-WR-CALDESC:Events for Friends of Franklin Park Arts Center
REFRESH-INTERVAL;VALUE=DURATION:PT1H
X-Robots-Tag:noindex
X-PUBLISHED-TTL:PT1H
BEGIN:VTIMEZONE
TZID:America/New_York
BEGIN:DAYLIGHT
TZOFFSETFROM:-0500
TZOFFSETTO:-0400
TZNAME:EDT
DTSTART:20240310T070000
END:DAYLIGHT
BEGIN:STANDARD
TZOFFSETFROM:-0400
TZOFFSETTO:-0500
TZNAME:EST
DTSTART:20241103T060000
END:STANDARD
BEGIN:DAYLIGHT
TZOFFSETFROM:-0500
TZOFFSETTO:-0400
TZNAME:EDT
DTSTART:20250309T070000
END:DAYLIGHT
BEGIN:STANDARD
TZOFFSETFROM:-0400
TZOFFSETTO:-0500
TZNAME:EST
DTSTART:20251102T060000
END:STANDARD
BEGIN:DAYLIGHT
TZOFFSETFROM:-0500
TZOFFSETTO:-0400
TZNAME:EDT
DTSTART:20260308T070000
END:DAYLIGHT
BEGIN:STANDARD
TZOFFSETFROM:-0400
TZOFFSETTO:-0500
TZNAME:EST
DTSTART:20261101T060000
END:STANDARD
END:VTIMEZONE
BEGIN:VEVENT
DTSTART;VALUE=DATE:20250606
DTEND;VALUE=DATE:20250609
DTSTAMP:20260424T052041
CREATED:20230407T190535Z
LAST-MODIFIED:20250416T212338Z
UID:2994-1749168000-1749427199@www.franklinparkartscenter.org
SUMMARY:Western Loudoun Art & Studio Tour
DESCRIPTION:ADMISSION IS FREE\nThe 18th Annual Western Loudoun Art and Studio Tour offers a weekend of art\, shopping\, and relaxation. Meet 40+ talented artists  in 26 studios and Arts Centers as you wind through the scenic countryside and historic villages of western Loudoun County. Enjoy paintings\, pottery\, jewelry\, photography\, fiber\, sculpture\, and more!  Franklin Park Arts Center will be hosting 4 guest artists during the tour:  Anne Block\, painting; Hope Hanes\, pastels; Yousung Largent\, ceramics; Patricia Stephenson\, fiber art.   Booklets and maps are available May 9th.\nClick here for map and more info on all artists –use this link  (www.wlast.org) \nHours: 10:00 am-5:00 pm \n 
URL:https://www.franklinparkartscenter.org/event/western-loudoun-art-studio-tour-2/
LOCATION:Franklin Park Arts Center\, 36441 Blueridge View Lane\, Purcellville\, VA\, 20132\, United States
CATEGORIES:Special Events,Visual Arts
ATTACH;FMTTYPE=image/jpeg:https://www.franklinparkartscenter.org/fof23/wp-content/uploads/2023/04/instagram-1.jpg
END:VEVENT
BEGIN:VEVENT
DTSTART;TZID=America/New_York:20250604T100000
DTEND;TZID=America/New_York:20250604T110000
DTSTAMP:20260424T052041
CREATED:20250416T203952Z
LAST-MODIFIED:20250416T203952Z
UID:4450-1749031200-1749034800@www.franklinparkartscenter.org
SUMMARY:Blue Sky Puppet Theatre: Rufus
DESCRIPTION:Blue Sky Puppet Theatre presents a sweet story about the dog Rufus. This lost and loney pup finds friends along his journey and gets help from the audience to prove to his teacher Mr Banana that he is a real dog. All ages welcome: under 2 years are admitted for free. This puppet show is part of our monthly series and is a perfect opportunity to introduce children to the theater in a relaxed and entertaining environment.  Purchase tickets online by clicking link below or pay at door. \nCLICK HERE TO PURCHASE TICKETS
URL:https://www.franklinparkartscenter.org/event/blue-sky-puppet-theatre-rufus/
LOCATION:Franklin Park Arts Center\, 36441 Blueridge View Lane\, Purcellville\, VA\, 20132\, United States
CATEGORIES:Performances
ATTACH;FMTTYPE=image/jpeg:https://www.franklinparkartscenter.org/fof23/wp-content/uploads/2025/04/rufus.jpg
END:VEVENT
END:VCALENDAR