BEGIN:VCALENDAR
VERSION:2.0
PRODID:-//Friends of Franklin Park Arts Center - ECPv6.15.14//NONSGML v1.0//EN
CALSCALE:GREGORIAN
METHOD:PUBLISH
X-WR-CALNAME:Friends of Franklin Park Arts Center
X-ORIGINAL-URL:https://www.franklinparkartscenter.org
X-WR-CALDESC:Events for Friends of Franklin Park Arts Center
REFRESH-INTERVAL;VALUE=DURATION:PT1H
X-Robots-Tag:noindex
X-PUBLISHED-TTL:PT1H
BEGIN:VTIMEZONE
TZID:America/New_York
BEGIN:DAYLIGHT
TZOFFSETFROM:-0500
TZOFFSETTO:-0400
TZNAME:EDT
DTSTART:20250309T070000
END:DAYLIGHT
BEGIN:STANDARD
TZOFFSETFROM:-0400
TZOFFSETTO:-0500
TZNAME:EST
DTSTART:20251102T060000
END:STANDARD
BEGIN:DAYLIGHT
TZOFFSETFROM:-0500
TZOFFSETTO:-0400
TZNAME:EDT
DTSTART:20260308T070000
END:DAYLIGHT
BEGIN:STANDARD
TZOFFSETFROM:-0400
TZOFFSETTO:-0500
TZNAME:EST
DTSTART:20261101T060000
END:STANDARD
BEGIN:DAYLIGHT
TZOFFSETFROM:-0500
TZOFFSETTO:-0400
TZNAME:EDT
DTSTART:20270314T070000
END:DAYLIGHT
BEGIN:STANDARD
TZOFFSETFROM:-0400
TZOFFSETTO:-0500
TZNAME:EST
DTSTART:20271107T060000
END:STANDARD
END:VTIMEZONE
BEGIN:VEVENT
DTSTART;TZID=America/New_York:20260723T180000
DTEND;TZID=America/New_York:20260723T200000
DTSTAMP:20260425T211258
CREATED:20250805T183158Z
LAST-MODIFIED:20260424T223516Z
UID:4718-1784829600-1784836800@www.franklinparkartscenter.org
SUMMARY:Storytelling Open Mic: Loyalty
DESCRIPTION:(Ages 12+)  The mic is yours!  Bring a prepared story that is 5-7 minutes in length in any format and step up to the mic to share it the others in this community series.    Listeners and storytellers are welcome — everyone needs a ticket.  We welcome your personal tales\, stories about others or even stories from your imagination related to loyalty.  Storytellers will sign up when arriving and if there are more tellers that time\, we’ll draw names at random for a turn at the mic. \nThe link below will take you to a page with all summer tickets.  Scroll down to find this event in the list. \nCLICK HERE TO PURCHASE A TICKET
URL:https://www.franklinparkartscenter.org/event/storytelling-open-mic/
CATEGORIES:Performances,Special Events
ATTACH;FMTTYPE=image/png:https://www.franklinparkartscenter.org/fof23/wp-content/uploads/2025/08/storytelling-graphic-for-web-e1754420174572.png
END:VEVENT
BEGIN:VEVENT
DTSTART;TZID=America/New_York:20260724T160000
DTEND;TZID=America/New_York:20260724T190000
DTSTAMP:20260425T211258
CREATED:20240105T174936Z
LAST-MODIFIED:20260425T194322Z
UID:3667-1784908800-1784919600@www.franklinparkartscenter.org
SUMMARY:Bob Ross Painting Worshop
DESCRIPTION:(Ages 16 & up) You have seen Bob Ross create his paintings on PBS and YouTube\, now it’s time to paint your own masterpiece along witha certified Bob Ross instructor. Complete an original painting through guided instruction. Bring an empty pizza box to take your completed painting home and wear clothes that can get paint on them. Each workshop is limited to 10 people. All materials included in fee. \n\nCLICK HERE TO REGISTER\nClick here for registration tips for using PRCS Connect
URL:https://www.franklinparkartscenter.org/event/bob-ross-painting-worshop/
LOCATION:Franklin Park Arts Center\, 36441 Blueridge View Lane\, Purcellville\, VA\, 20132\, United States
CATEGORIES:Classes,For Artists,Visual Arts
ATTACH;FMTTYPE=image/jpeg:https://www.franklinparkartscenter.org/fof23/wp-content/uploads/2021/05/Bob-Ross-REV-e1620831265156.jpg
END:VEVENT
BEGIN:VEVENT
DTSTART;VALUE=DATE:20260728
DTEND;VALUE=DATE:20260729
DTSTAMP:20260425T211258
CREATED:20260425T192310Z
LAST-MODIFIED:20260425T192336Z
UID:5298-1785196800-1785283199@www.franklinparkartscenter.org
SUMMARY:Summer Showstoppers: The Enchanted Mermaid
DESCRIPTION:This series presents dazzling shows that the whole family will enjoy. \nThe Enchanted Mermaid is a show using very large puppets\, in the style of Bunraku with a story for older children. Once upon a time\, our hero John Cobbler stumbled upon a hidden castle. A beautiful maiden has been transformed into a mermaid! Can John use his wits to free the mermaid and escape from the wicked Lord Fish? Based upon the Walter de La Mare short story “Lord Fish” written in 1927. This show features elegantly crafted Bunraku-style puppets with elaborately built miniature castle and interior sets. Framed in a beautiful\, large black theatre stage\, this show was originally built for the Edinburgh Fringe Festival. 45 minute program presented by Beale Street Puppets. \nTwo shows:  11:am and 1:00pm\nClick below to purchase tickets\, then scroll down to correct performance. \nPURCHASE TICKETS HERE
URL:https://www.franklinparkartscenter.org/event/summer-showstoppers-the-enchanted-mermaid/
CATEGORIES:Performances
ATTACH;FMTTYPE=image/png:https://www.franklinparkartscenter.org/fof23/wp-content/uploads/2026/04/SummerShowstop72826_Enchanted-Mermaid.png
END:VEVENT
BEGIN:VEVENT
DTSTART;TZID=America/New_York:20260728T110000
DTEND;TZID=America/New_York:20260728T150000
DTSTAMP:20260425T211258
CREATED:20260425T201833Z
LAST-MODIFIED:20260425T201833Z
UID:5311-1785236400-1785250800@www.franklinparkartscenter.org
SUMMARY:Freedom Art Days
DESCRIPTION:(Ages 2+)  We provide the materials\, you supply your own creativity and create a masterpiece before or after the Showstoppers performances on these days.  Get inspiration from our gallery exhibit or the hot summer sun.  FREE – children must be supervised. \nREGISTER HERE USING PRCSConnect
URL:https://www.franklinparkartscenter.org/event/freedom-art-days-3/
CATEGORIES:Classes,Visual Arts
ATTACH;FMTTYPE=image/jpeg:https://www.franklinparkartscenter.org/fof23/wp-content/uploads/2026/04/art-supplies.jpg
END:VEVENT
BEGIN:VEVENT
DTSTART;VALUE=DATE:20260802
DTEND;VALUE=DATE:20260803
DTSTAMP:20260425T211258
CREATED:20210610T180647Z
LAST-MODIFIED:20260425T193141Z
UID:1331-1785628800-1785715199@www.franklinparkartscenter.org
SUMMARY:Planetarium Program: The Story of Tanabata(七夕)
DESCRIPTION:Colorful Tanabata festivals are held across Japan in early July and August. Among the biggest ones are the Tanabata festivals of Sendai in August and Hiratsuka near Tokyo in July.  Tanabata (七夕)\, also known as the “star festival”\, takes place on the 7th day of the 7th month of the year\, when\, according to a Chinese legend\, the two stars Altair and Vega\, which are usually separated from each other by the Milky Way\, are able to meet. \nStep inside our inflatable dome for this interactive and unique planetarium program. Suitable for ages 4+. Programs begin on time and late arrivals will not be admitted as it ruins the experience for others.  Seating limited to 25 people per show time. \nShow times:  1:00 pm\, 2:00 pm\, 3:00 pm\, 4:00pm \nClick below to purchase tickets; scroll down to choose the correct program time. \nPURCHASE TICKETS HERE\n 
URL:https://www.franklinparkartscenter.org/event/tanabata-a-japanese-celebration/
LOCATION:Franklin Park Arts Center\, 36441 Blueridge View Lane\, Purcellville\, VA\, 20132\, United States
CATEGORIES:Special Events
ATTACH;FMTTYPE=image/jpeg:https://www.franklinparkartscenter.org/fof23/wp-content/uploads/2021/12/Planetarium_Stage.jpg
END:VEVENT
BEGIN:VEVENT
DTSTART;TZID=America/New_York:20260805T100000
DTEND;TZID=America/New_York:20260805T110000
DTSTAMP:20260425T211258
CREATED:20260425T184412Z
LAST-MODIFIED:20260425T184412Z
UID:5286-1785924000-1785927600@www.franklinparkartscenter.org
SUMMARY:Big Barn Puppets: Musical Barnyard
DESCRIPTION:(Ages 2+)  Our monthly puppet shows are a great introduction for younger children to experience live theater. Kidsinger Jim presents a one-of-a-kind puppet show.  The friendly\, nearly life-size animal puppets and realistic barn set take the children on a visit to a very musical farm.. This 40-minute show is suitable for all ages\, children under 2 are FREE. \nClick on the link below\, then scroll down to the ticket for the puppet show. \nPURCHASE TICKETS HERE
URL:https://www.franklinparkartscenter.org/event/big-barn-puppets-musical-barnyard/
CATEGORIES:Performances
ATTACH;FMTTYPE=image/jpeg:https://www.franklinparkartscenter.org/fof23/wp-content/uploads/2026/04/Puppet8052026_Big-Barn-Puppets-scaled.jpeg
END:VEVENT
BEGIN:VEVENT
DTSTART;TZID=America/New_York:20260806T183000
DTEND;TZID=America/New_York:20260806T203000
DTSTAMP:20260425T211258
CREATED:20220719T204001Z
LAST-MODIFIED:20260425T193447Z
UID:2361-1786041000-1786048200@www.franklinparkartscenter.org
SUMMARY:Tanabata
DESCRIPTION:(Ages 8+) You are invited to immerse yourself in a traditional tea ceremony to celebrate the Japanese Festival of Tanabata. (七夕)  Participants can wear one of our kimonos and decorate a floating lantern on arrival.  Quietly observe the tea ceremony demonstration lead by Hiromi Johnson and then participate with a hands on preparation to share matcha tea with friends.  Afterwards\, you can walk (or drive) to the pond to launch your water lanterns.  A serene and reflective cultural experience.  Limited to 40 participants. \nClick below to purchase tickets; scroll down to correct program. \nCLICK HERE TO REGISTER
URL:https://www.franklinparkartscenter.org/event/tanabata-a-japanese-celebration-2/
LOCATION:Franklin Park Arts Center\, 36441 Blueridge View Lane\, Purcellville\, VA\, 20132\, United States
CATEGORIES:Classes,Special Events
ATTACH;FMTTYPE=image/jpeg:https://www.franklinparkartscenter.org/fof23/wp-content/uploads/2022/07/20240808_191214-scaled.jpg
END:VEVENT
END:VCALENDAR