BEGIN:VCALENDAR
VERSION:2.0
PRODID:-//Friends of Franklin Park Arts Center - ECPv6.15.14//NONSGML v1.0//EN
CALSCALE:GREGORIAN
METHOD:PUBLISH
X-ORIGINAL-URL:https://www.franklinparkartscenter.org
X-WR-CALDESC:Events for Friends of Franklin Park Arts Center
REFRESH-INTERVAL;VALUE=DURATION:PT1H
X-Robots-Tag:noindex
X-PUBLISHED-TTL:PT1H
BEGIN:VTIMEZONE
TZID:America/New_York
BEGIN:DAYLIGHT
TZOFFSETFROM:-0500
TZOFFSETTO:-0400
TZNAME:EDT
DTSTART:20250309T070000
END:DAYLIGHT
BEGIN:STANDARD
TZOFFSETFROM:-0400
TZOFFSETTO:-0500
TZNAME:EST
DTSTART:20251102T060000
END:STANDARD
BEGIN:DAYLIGHT
TZOFFSETFROM:-0500
TZOFFSETTO:-0400
TZNAME:EDT
DTSTART:20260308T070000
END:DAYLIGHT
BEGIN:STANDARD
TZOFFSETFROM:-0400
TZOFFSETTO:-0500
TZNAME:EST
DTSTART:20261101T060000
END:STANDARD
BEGIN:DAYLIGHT
TZOFFSETFROM:-0500
TZOFFSETTO:-0400
TZNAME:EDT
DTSTART:20270314T070000
END:DAYLIGHT
BEGIN:STANDARD
TZOFFSETFROM:-0400
TZOFFSETTO:-0500
TZNAME:EST
DTSTART:20271107T060000
END:STANDARD
END:VTIMEZONE
BEGIN:VEVENT
DTSTART;VALUE=DATE:20260608
DTEND;VALUE=DATE:20260610
DTSTAMP:20260425T171702
CREATED:20250530T144744Z
LAST-MODIFIED:20260218T215226Z
UID:4547-1780876800-1781049599@www.franklinparkartscenter.org
SUMMARY:Call for Entry: Pursuit of Happiness
DESCRIPTION:(Ages 18+)  Artists in all mediums are invited to enter artwork that explores\, depicts or celebrates the theme of Pursuit of Happiness.  There is joy and happiness in creating your work and as inspiration for the pieces you create. Show us what this pursuit means to you and how it brings you happiness or how you see happiness in others who are pursuing their passions. A pathway through the woods\, bags packed for vacation\, fisherman on the docks\, a bee searching a flower – we are interested in the search\, the pursuit.  Online entry form is preferred; payment can be made when dropping off artwork by cash\, credit card or check (payable to County of Loudoun). Entry fees are $20 per artist\, submit up to three pieces \nArtwork Drop-Off:                          June 8 and 9        9:00am – 5:00pm \nArtwork pick-up:                             July 13                      9:00am  – 5:00pm \nClick here for online entry form
URL:https://www.franklinparkartscenter.org/event/call-for-entry-ocean-treasures/
CATEGORIES:For Artists,Visual Arts
ATTACH;FMTTYPE=image/png:https://www.franklinparkartscenter.org/fof23/wp-content/uploads/2025/05/Art-exhibit-pursuit-of-happiness.png
END:VEVENT
BEGIN:VEVENT
DTSTART;TZID=America/New_York:20260615T110000
DTEND;TZID=America/New_York:20260615T140000
DTSTAMP:20260425T171702
CREATED:20250731T215635Z
LAST-MODIFIED:20260425T193842Z
UID:4670-1781521200-1781532000@www.franklinparkartscenter.org
SUMMARY:Life Model Sketching Workshop
DESCRIPTION:(Ages 21-100) Artists can further develop their skills in sketching the human form. With some guidance from instructor and professional artist Carmen Barros Howell\, participants will sketch from both short and long poses. Bring your own supplies; a limited number of easels will be provided and tables/chairs will be set up for those not able to use an easel. Class is limited to 9 students. You must be 21+ to participate in this class. \nThank you to the Friends of Franklin Park Arts Center for sponsoring the model fee. \nNew to our on-line registration system?  Give us a call or watch video below. \n CLICK HERE TO REGISTER\nClick here for tips on using PRCS Connect
URL:https://www.franklinparkartscenter.org/event/life-model-sketching-workshop-2/
CATEGORIES:Classes,For Artists,Visual Arts
ATTACH;FMTTYPE=image/jpeg:https://www.franklinparkartscenter.org/fof23/wp-content/uploads/2025/03/life-model-pic.jpg
END:VEVENT
BEGIN:VEVENT
DTSTART;TZID=America/New_York:20260621T110000
DTEND;TZID=America/New_York:20260621T150000
DTSTAMP:20260425T171702
CREATED:20251106T205240Z
LAST-MODIFIED:20260425T195023Z
UID:5031-1782039600-1782054000@www.franklinparkartscenter.org
SUMMARY:Freedom Art Days - Play All Day VA
DESCRIPTION:(All Ages)  It’s Play All Day VA!  We provide the materials\, you supply your own creativity.  We invite you to visit the Arts Center\, view the exhibit hanging in our gallery and then create your own sunny\, bright masterpiece!  Free — children must be supervised. \n  \nREGISTER HERE USING PRCS Connect
URL:https://www.franklinparkartscenter.org/event/freedom-art-days-2/
CATEGORIES:Classes,Special Events,Visual Arts
ATTACH;FMTTYPE=image/jpeg:https://www.franklinparkartscenter.org/fof23/wp-content/uploads/2025/11/art-supplies.jpg
END:VEVENT
BEGIN:VEVENT
DTSTART;TZID=America/New_York:20260621T180000
DTEND;TZID=America/New_York:20260621T193000
DTSTAMP:20260425T171702
CREATED:20240516T191638Z
LAST-MODIFIED:20260425T190404Z
UID:3905-1782064800-1782070200@www.franklinparkartscenter.org
SUMMARY:Exhibition On Screen - Sunflowers: The Mystery of Van Gogh's Masterworks
DESCRIPTION:We are celebrating Play All Day VA with this free event that is a tribute to the Sunflower masterworks. \nExhibition On Screen presents this art documentary film featuring the Sunflower paintings of Vincent Van Gogh. All is revealed in this fascinating film\, which traveled beyond Amsterdam to Tokyo\, Philadelphia\, London and Munich to film\, in incredible high-definition detail\, all five of the works on public display. Each painting is different and has its own unique story\, spanning one of the most famous and turbulent periods in art history. Running time: 85 minutes with reception afterwards to spend time in our gallery with “Pursuit of Happiness” exhibit. \nCLICK HERE FOR TICKETS
URL:https://www.franklinparkartscenter.org/event/exhibition-on-screen-sunflower/
LOCATION:Franklin Park Arts Center\, 36441 Blueridge View Lane\, Purcellville\, VA\, 20132\, United States
CATEGORIES:Special Events,Visual Arts
ATTACH;FMTTYPE=image/jpeg:https://www.franklinparkartscenter.org/fof23/wp-content/uploads/2024/05/artfilm612126_VanGoghsunflowers-scaled.jpg
END:VEVENT
BEGIN:VEVENT
DTSTART;TZID=America/New_York:20260624T120000
DTEND;TZID=America/New_York:20260624T130000
DTSTAMP:20260425T171702
CREATED:20250426T011341Z
LAST-MODIFIED:20260424T225544Z
UID:4519-1782302400-1782306000@www.franklinparkartscenter.org
SUMMARY:Start Lunch with the Arts: Pursuit of Happiness
DESCRIPTION:(Ages 13+)  Bring your own lunch to our gallery and get to know one of the exhibiting artists in “Pursuit of Happiness”.  Learn about their process and inspiration for creating and end the time with a short meditation that invites you to experience the exhibit in a more mindful way.  Limited space at our table — reserve your spot today by calling our box office 540-338-7973 \n  \n 
URL:https://www.franklinparkartscenter.org/event/start-lunch-with-the-arts-ocean-treasures-exhibit/
CATEGORIES:Classes,Special Events,Visual Arts
ATTACH;FMTTYPE=image/png:https://www.franklinparkartscenter.org/fof23/wp-content/uploads/2025/04/Start-Lunch-with-the-Arts-6.png
END:VEVENT
BEGIN:VEVENT
DTSTART;TZID=America/New_York:20260714T110000
DTEND;TZID=America/New_York:20260714T150000
DTSTAMP:20260425T171702
CREATED:20251106T205106Z
LAST-MODIFIED:20260425T195437Z
UID:5025-1784026800-1784041200@www.franklinparkartscenter.org
SUMMARY:Freedom Art Days
DESCRIPTION:(Ages 2+)  We provide the materials\, you supply your own creativity and create a masterpiece before or after the Showstoppers performances on these days.  Get inspiration from our gallery exhibit or the hot summer sun.  FREE – children must be supervised. \nREGISTER HERE USING PRCS Connect
URL:https://www.franklinparkartscenter.org/event/freedom-art-days/
CATEGORIES:Classes,Special Events,Visual Arts
ATTACH;FMTTYPE=image/jpeg:https://www.franklinparkartscenter.org/fof23/wp-content/uploads/2025/11/art-supplies.jpg
END:VEVENT
BEGIN:VEVENT
DTSTART;TZID=America/New_York:20260720T110000
DTEND;TZID=America/New_York:20260720T140000
DTSTAMP:20260425T171702
CREATED:20250317T154730Z
LAST-MODIFIED:20260425T194019Z
UID:4419-1784545200-1784556000@www.franklinparkartscenter.org
SUMMARY:Life Model Sketching Workshop
DESCRIPTION:(Ages 21-100)  Artists can further develop their skills in sketching the human form. With some guidance from instructor and professional artist Carmen Barros Howell\, participants will sketch from both short and long poses. Bring your own supplies; a limited number of easels will be provided and tables/chairs will be set up for those not able to use an easel. Class is limited to 9 students. You must be 21+ to participate in this class. \nThank you to Friends of Franklin Park Arts Center for sponsoring the model fee.    \nCLICK HERE TO REGISTER\nClick here for tips on using PRCS Connect
URL:https://www.franklinparkartscenter.org/event/life-model-drawing-workshop/
LOCATION:Franklin Park Arts Center\, 36441 Blueridge View Lane\, Purcellville\, VA\, 20132\, United States
CATEGORIES:Classes,For Artists,Visual Arts
ATTACH;FMTTYPE=image/jpeg:https://www.franklinparkartscenter.org/fof23/wp-content/uploads/2025/03/life-model-pic.jpg
END:VEVENT
BEGIN:VEVENT
DTSTART;TZID=America/New_York:20260724T160000
DTEND;TZID=America/New_York:20260724T190000
DTSTAMP:20260425T171702
CREATED:20240105T174936Z
LAST-MODIFIED:20260425T194322Z
UID:3667-1784908800-1784919600@www.franklinparkartscenter.org
SUMMARY:Bob Ross Painting Worshop
DESCRIPTION:(Ages 16 & up) You have seen Bob Ross create his paintings on PBS and YouTube\, now it’s time to paint your own masterpiece along witha certified Bob Ross instructor. Complete an original painting through guided instruction. Bring an empty pizza box to take your completed painting home and wear clothes that can get paint on them. Each workshop is limited to 10 people. All materials included in fee. \n\nCLICK HERE TO REGISTER\nClick here for registration tips for using PRCS Connect
URL:https://www.franklinparkartscenter.org/event/bob-ross-painting-worshop/
LOCATION:Franklin Park Arts Center\, 36441 Blueridge View Lane\, Purcellville\, VA\, 20132\, United States
CATEGORIES:Classes,For Artists,Visual Arts
ATTACH;FMTTYPE=image/jpeg:https://www.franklinparkartscenter.org/fof23/wp-content/uploads/2021/05/Bob-Ross-REV-e1620831265156.jpg
END:VEVENT
BEGIN:VEVENT
DTSTART;TZID=America/New_York:20260728T110000
DTEND;TZID=America/New_York:20260728T150000
DTSTAMP:20260425T171702
CREATED:20260425T201833Z
LAST-MODIFIED:20260425T201833Z
UID:5311-1785236400-1785250800@www.franklinparkartscenter.org
SUMMARY:Freedom Art Days
DESCRIPTION:(Ages 2+)  We provide the materials\, you supply your own creativity and create a masterpiece before or after the Showstoppers performances on these days.  Get inspiration from our gallery exhibit or the hot summer sun.  FREE – children must be supervised. \nREGISTER HERE USING PRCSConnect
URL:https://www.franklinparkartscenter.org/event/freedom-art-days-3/
CATEGORIES:Classes,Visual Arts
ATTACH;FMTTYPE=image/jpeg:https://www.franklinparkartscenter.org/fof23/wp-content/uploads/2026/04/art-supplies.jpg
END:VEVENT
END:VCALENDAR