BEGIN:VCALENDAR
VERSION:2.0
PRODID:-//Friends of Franklin Park Arts Center - ECPv6.15.14//NONSGML v1.0//EN
CALSCALE:GREGORIAN
METHOD:PUBLISH
X-ORIGINAL-URL:https://www.franklinparkartscenter.org
X-WR-CALDESC:Events for Friends of Franklin Park Arts Center
REFRESH-INTERVAL;VALUE=DURATION:PT1H
X-Robots-Tag:noindex
X-PUBLISHED-TTL:PT1H
BEGIN:VTIMEZONE
TZID:America/New_York
BEGIN:DAYLIGHT
TZOFFSETFROM:-0500
TZOFFSETTO:-0400
TZNAME:EDT
DTSTART:20240310T070000
END:DAYLIGHT
BEGIN:STANDARD
TZOFFSETFROM:-0400
TZOFFSETTO:-0500
TZNAME:EST
DTSTART:20241103T060000
END:STANDARD
BEGIN:DAYLIGHT
TZOFFSETFROM:-0500
TZOFFSETTO:-0400
TZNAME:EDT
DTSTART:20250309T070000
END:DAYLIGHT
BEGIN:STANDARD
TZOFFSETFROM:-0400
TZOFFSETTO:-0500
TZNAME:EST
DTSTART:20251102T060000
END:STANDARD
BEGIN:DAYLIGHT
TZOFFSETFROM:-0500
TZOFFSETTO:-0400
TZNAME:EDT
DTSTART:20260308T070000
END:DAYLIGHT
BEGIN:STANDARD
TZOFFSETFROM:-0400
TZOFFSETTO:-0500
TZNAME:EST
DTSTART:20261101T060000
END:STANDARD
END:VTIMEZONE
BEGIN:VEVENT
DTSTART;TZID=America/New_York:20251230T150000
DTEND;TZID=America/New_York:20251230T160000
DTSTAMP:20260425T075205
CREATED:20251106T194719Z
LAST-MODIFIED:20251107T193338Z
UID:5008-1767106800-1767110400@www.franklinparkartscenter.org
SUMMARY:Laser Light Show: Winter Holiday Adventure
DESCRIPTION:Step inside our theater for this 40-minute laser sing-along show.  The stage will be bursting with colorful animations set to a medley of holiday classics and recent smash hits! Meet the star of the Winter Holiday Adventure\, our friend Squeaky the laser penguin.  Wear your New Year’s Eve party attire and start the count down early. \nPURCHASE TICKETS HERE
URL:https://www.franklinparkartscenter.org/event/laser-light-show-winter-holiday-adventure/
CATEGORIES:Performances,Special Events
ATTACH;FMTTYPE=image/jpeg:https://www.franklinparkartscenter.org/fof23/wp-content/uploads/2025/11/Winter-Holiday-laser-show1.jpg
END:VEVENT
END:VCALENDAR