BEGIN:VCALENDAR
VERSION:2.0
PRODID:-//Friends of Franklin Park Arts Center - ECPv6.15.14//NONSGML v1.0//EN
CALSCALE:GREGORIAN
METHOD:PUBLISH
X-WR-CALNAME:Friends of Franklin Park Arts Center
X-ORIGINAL-URL:https://www.franklinparkartscenter.org
X-WR-CALDESC:Events for Friends of Franklin Park Arts Center
REFRESH-INTERVAL;VALUE=DURATION:PT1H
X-Robots-Tag:noindex
X-PUBLISHED-TTL:PT1H
BEGIN:VTIMEZONE
TZID:America/New_York
BEGIN:DAYLIGHT
TZOFFSETFROM:-0500
TZOFFSETTO:-0400
TZNAME:EDT
DTSTART:20250309T070000
END:DAYLIGHT
BEGIN:STANDARD
TZOFFSETFROM:-0400
TZOFFSETTO:-0500
TZNAME:EST
DTSTART:20251102T060000
END:STANDARD
BEGIN:DAYLIGHT
TZOFFSETFROM:-0500
TZOFFSETTO:-0400
TZNAME:EDT
DTSTART:20260308T070000
END:DAYLIGHT
BEGIN:STANDARD
TZOFFSETFROM:-0400
TZOFFSETTO:-0500
TZNAME:EST
DTSTART:20261101T060000
END:STANDARD
BEGIN:DAYLIGHT
TZOFFSETFROM:-0500
TZOFFSETTO:-0400
TZNAME:EDT
DTSTART:20270314T070000
END:DAYLIGHT
BEGIN:STANDARD
TZOFFSETFROM:-0400
TZOFFSETTO:-0500
TZNAME:EST
DTSTART:20271107T060000
END:STANDARD
END:VTIMEZONE
BEGIN:VEVENT
DTSTART;TZID=America/New_York:20260218T190000
DTEND;TZID=America/New_York:20260218T200000
DTSTAMP:20260423T075748
CREATED:20251231T161324Z
LAST-MODIFIED:20251231T161324Z
UID:5148-1771441200-1771444800@www.franklinparkartscenter.org
SUMMARY:Music For Dessert: Scott Ainslie
DESCRIPTION:Steeped in traditional music from both sides of the color line\, Scott Ainslie is a renowned acoustic blues guitarist\, singer and songwriter. He learned southern old-time ballads\, banjo and fiddle from senior musicians in North Carolina and West Virginia and blues from his black elders in North Carolina\, Virginia\, South Carolina\, Georgia and Mississippi: his roots are deep.  He is a masterful and thoughtful historian\, storyteller\, and musician. \nAinslie transcribed the original recordings and published a book on Delta blues legend Robert Johnson [Robert Johnson/At The Crossroads (Hal Leonard\, 1992)]\, and has an instructional DVD on Johnson’s guitar work [Robert Johnson’s Guitar Techniques (Hal Leonard\, 1997)]. Ainslie has six solo CDs to his name and maintains an active recording\, performing\, and teaching schedule that carries him around the country\, to Canada\, and to Europe. \nThe concert will be 45-60 minutes without an intermission. No refreshments are served — let the music be your dessert!\nWe welcome audiences in-person and those watching our livestream from home. All ticket holders will be emailed a livestream link prior to the concert. \nCLICK HERE TO PURCHASE TICKETS
URL:https://www.franklinparkartscenter.org/event/music-for-dessert-scott-ainslie/
LOCATION:Franklin Park Arts Center\, 36441 Blueridge View Lane\, Purcellville\, VA\, 20132\, United States
CATEGORIES:Performances
ATTACH;FMTTYPE=image/jpeg:https://www.franklinparkartscenter.org/fof23/wp-content/uploads/2025/12/Scott_Ainslie_NEYT112015-23.jpg
END:VEVENT
END:VCALENDAR