BEGIN:VCALENDAR
VERSION:2.0
PRODID:-//Friends of Franklin Park Arts Center - ECPv6.15.14//NONSGML v1.0//EN
CALSCALE:GREGORIAN
METHOD:PUBLISH
X-WR-CALNAME:Friends of Franklin Park Arts Center
X-ORIGINAL-URL:https://www.franklinparkartscenter.org
X-WR-CALDESC:Events for Friends of Franklin Park Arts Center
REFRESH-INTERVAL;VALUE=DURATION:PT1H
X-Robots-Tag:noindex
X-PUBLISHED-TTL:PT1H
BEGIN:VTIMEZONE
TZID:America/New_York
BEGIN:DAYLIGHT
TZOFFSETFROM:-0500
TZOFFSETTO:-0400
TZNAME:EDT
DTSTART:20250309T070000
END:DAYLIGHT
BEGIN:STANDARD
TZOFFSETFROM:-0400
TZOFFSETTO:-0500
TZNAME:EST
DTSTART:20251102T060000
END:STANDARD
BEGIN:DAYLIGHT
TZOFFSETFROM:-0500
TZOFFSETTO:-0400
TZNAME:EDT
DTSTART:20260308T070000
END:DAYLIGHT
BEGIN:STANDARD
TZOFFSETFROM:-0400
TZOFFSETTO:-0500
TZNAME:EST
DTSTART:20261101T060000
END:STANDARD
BEGIN:DAYLIGHT
TZOFFSETFROM:-0500
TZOFFSETTO:-0400
TZNAME:EDT
DTSTART:20270314T070000
END:DAYLIGHT
BEGIN:STANDARD
TZOFFSETFROM:-0400
TZOFFSETTO:-0500
TZNAME:EST
DTSTART:20271107T060000
END:STANDARD
END:VTIMEZONE
BEGIN:VEVENT
DTSTART;VALUE=DATE:20260605
DTEND;VALUE=DATE:20260608
DTSTAMP:20260425T115928
CREATED:20230407T190535Z
LAST-MODIFIED:20260424T222344Z
UID:2994-1780617600-1780876799@www.franklinparkartscenter.org
SUMMARY:Western Loudoun Art & Studio Tour
DESCRIPTION:ADMISSION IS FREE\nThe 19th Annual Western Loudoun Art and Studio Tour offers a weekend of art\, shopping\, and relaxation. Meet 46 talented artists  in 28 studios and Arts Centers as you wind through the scenic countryside and historic villages of western Loudoun County. Enjoy paintings\, pottery\, jewelry\, photography\, fiber\, sculpture\, and more!  Franklin Park Arts Center will be hosting 5 guest artists during the tour:  Anne Block\, painting; Aileen Canan\, painting; Yousung Largent\, ceramics; Patricia Stephenson\, fiber art and Kim Richards\, painting.   Maps with guide\nClick here for map and more info on all artists –use this link  (www.wlast.org) \nHours: 10:00 am-5:00 pm \n 
URL:https://www.franklinparkartscenter.org/event/western-loudoun-art-studio-tour-2/
LOCATION:Franklin Park Arts Center\, 36441 Blueridge View Lane\, Purcellville\, VA\, 20132\, United States
CATEGORIES:Special Events,Visual Arts
ATTACH;FMTTYPE=image/png:https://www.franklinparkartscenter.org/fof23/wp-content/uploads/2023/04/WLAST600x600ashburndigital.png
END:VEVENT
END:VCALENDAR